BEGIN:VCALENDAR
VERSION:2.0
PRODID:-// - ECPv6.15.20//NONSGML v1.0//EN
CALSCALE:GREGORIAN
METHOD:PUBLISH
X-ORIGINAL-URL:https://srs-ev.de
X-WR-CALDESC:Veranstaltungen für 
REFRESH-INTERVAL;VALUE=DURATION:PT1H
X-Robots-Tag:noindex
X-PUBLISHED-TTL:PT1H
BEGIN:VTIMEZONE
TZID:UTC
BEGIN:STANDARD
TZOFFSETFROM:+0000
TZOFFSETTO:+0000
TZNAME:UTC
DTSTART:20250101T000000
END:STANDARD
END:VTIMEZONE
BEGIN:VEVENT
DTSTART;TZID=UTC:20260405T180000
DTEND;TZID=UTC:20260405T230000
DTSTAMP:20260424T024144
CREATED:20260330T054611Z
LAST-MODIFIED:20260330T054611Z
UID:530-1775412000-1775430000@srs-ev.de
SUMMARY:Osterfeuer in Scherenbostel
DESCRIPTION:Wie immer bei Einbruch der Dunkelheit wird das Feuer entfacht…
URL:https://srs-ev.de/event/osterfeuer-in-scherenbostel/
END:VEVENT
END:VCALENDAR