BEGIN:VCALENDAR
VERSION:2.0
PRODID:-// - ECPv6.15.20//NONSGML v1.0//EN
CALSCALE:GREGORIAN
METHOD:PUBLISH
X-ORIGINAL-URL:https://srs-ev.de
X-WR-CALDESC:Veranstaltungen für 
REFRESH-INTERVAL;VALUE=DURATION:PT1H
X-Robots-Tag:noindex
X-PUBLISHED-TTL:PT1H
BEGIN:VTIMEZONE
TZID:UTC
BEGIN:STANDARD
TZOFFSETFROM:+0000
TZOFFSETTO:+0000
TZNAME:UTC
DTSTART:20250101T000000
END:STANDARD
END:VTIMEZONE
BEGIN:VEVENT
DTSTART;TZID=UTC:20260307T140000
DTEND;TZID=UTC:20260307T233000
DTSTAMP:20260424T072541
CREATED:20260206T211348Z
LAST-MODIFIED:20260219T065633Z
UID:486-1772892000-1772926200@srs-ev.de
SUMMARY:Winterspiele 2026
DESCRIPTION:Es geht wieder los!!! \nAm 7.3.2026 ist es wieder soweit\, die Winterspiele ziehen wieder in das Schützenhaus ein!\n14-ca.18Uhr für groß und klein\nAb 19Uhr für die „großen kleinen“  \nWeiter Informationen entnimmt bitte den Flyer. Wir freuen uns auf euch! \nAnmeldungen und Flyer liegen zum Download bereit. \nFlyer zum downloaden \nAnmeldung zum downloaden
URL:https://srs-ev.de/event/winterspiele-2026/
LOCATION:Schützenhaus Scherenbostel\, Fuhrenkamp 5\, Scherenbostel\, Niedersachsen\, 30900\, Germany
END:VEVENT
END:VCALENDAR